BEGIN:VCALENDAR
PRODID;X-RICAL-TZSOURCE=TZINFO:-&#47;&#47;com.denhaven2&#47;NONSGML ri_cal gem&#47;&#47;EN
CALSCALE:GREGORIAN
VERSION:2.0
BEGIN:VEVENT
DTEND;VALUE=DATE:20090321
DTSTART;VALUE=DATE:20090321
DESCRIPTION:Release 0.2.4 is due on 03&#47;21&#47;09 (4 tickets)
SUMMARY:Milestone for doodle: Release 0.2.4
LOCATION:https:&#47;&#47;seanohalpin.lighthouseapp.com&#47;projects&#47;26673&#47;milestones&#47;
 34090-release-024
END:VEVENT
END:VCALENDAR
